BEGIN:VCALENDAR
VERSION:2.0
PRODID:-//La Vela - ECPv6.15.20//NONSGML v1.0//EN
CALSCALE:GREGORIAN
METHOD:PUBLISH
X-ORIGINAL-URL:https://lavela.org
X-WR-CALDESC:Eventi per La Vela
REFRESH-INTERVAL;VALUE=DURATION:PT1H
X-Robots-Tag:noindex
X-PUBLISHED-TTL:PT1H
BEGIN:VTIMEZONE
TZID:Europe/Rome
BEGIN:DAYLIGHT
TZOFFSETFROM:+0100
TZOFFSETTO:+0200
TZNAME:CEST
DTSTART:20240331T010000
END:DAYLIGHT
BEGIN:STANDARD
TZOFFSETFROM:+0200
TZOFFSETTO:+0100
TZNAME:CET
DTSTART:20241027T010000
END:STANDARD
BEGIN:DAYLIGHT
TZOFFSETFROM:+0100
TZOFFSETTO:+0200
TZNAME:CEST
DTSTART:20250330T010000
END:DAYLIGHT
BEGIN:STANDARD
TZOFFSETFROM:+0200
TZOFFSETTO:+0100
TZNAME:CET
DTSTART:20251026T010000
END:STANDARD
BEGIN:DAYLIGHT
TZOFFSETFROM:+0100
TZOFFSETTO:+0200
TZNAME:CEST
DTSTART:20260329T010000
END:DAYLIGHT
BEGIN:STANDARD
TZOFFSETFROM:+0200
TZOFFSETTO:+0100
TZNAME:CET
DTSTART:20261025T010000
END:STANDARD
BEGIN:DAYLIGHT
TZOFFSETFROM:+0100
TZOFFSETTO:+0200
TZNAME:CEST
DTSTART:20270328T010000
END:DAYLIGHT
BEGIN:STANDARD
TZOFFSETFROM:+0200
TZOFFSETTO:+0100
TZNAME:CET
DTSTART:20271031T010000
END:STANDARD
BEGIN:DAYLIGHT
TZOFFSETFROM:+0100
TZOFFSETTO:+0200
TZNAME:CEST
DTSTART:20280326T010000
END:DAYLIGHT
BEGIN:STANDARD
TZOFFSETFROM:+0200
TZOFFSETTO:+0100
TZNAME:CET
DTSTART:20281029T010000
END:STANDARD
END:VTIMEZONE
BEGIN:VEVENT
DTSTART;TZID=Europe/Rome:20251106T163000
DTEND;TZID=Europe/Rome:20270624T180000
DTSTAMP:20260426T000147
CREATED:20251016T080542Z
LAST-MODIFIED:20251016T080716Z
UID:14539-1762446600-1813860000@lavela.org
SUMMARY:Tempo Insieme Bovezzo
DESCRIPTION:Per giocare\, confrontarsi e condividere esperienze\nA tutti i bambini dagli 0 ai 3 anni e alle loro famiglie da giovedì 6 novembre 2025 \nvi aspettiamo in un ambiente a misura di bambino dove trascorrere del tempo insieme \nTutti i giovedì\, da novembre 2025 a giugno 2026 \ndalle 16.30 alle 18 presso il Nido Bollicine di Bovezzo (via V.Veneto 23)\nPer frequentare lo spazio “TEMPO INSIEME” è necessario:\n• che i bambini siano accompagnati da un adulto di riferimento che ne sarà responsabile\n• munirsi di calze antiscivolo\n• il pagamento di una quota simbolica di 15 euro al mese per contribuire alle spese per i materiali \nI laboratori di gioco saranno organizzati e condotti da un’educatrice \nLe iscrizioni sono aperte tutto l’anno \nPer informazioni:\nAsilo Nido Bollicine 3427614338
URL:https://lavela.org/evento/tempo-insieme-bovezzo-3/
LOCATION:Asilo nido Bollicine Bovezzo\, Via Vittorio Veneto 23\, Bovezzo\, Brescia\, Italia
ATTACH;FMTTYPE=image/jpeg:https://lavela.org/wp-content/uploads/2025/10/TempoInsieme_25-26_bovezzo-evento-scaled.jpg
END:VEVENT
BEGIN:VEVENT
DTSTART;TZID=Europe/Rome:20251112T164500
DTEND;TZID=Europe/Rome:20270630T180000
DTSTAMP:20260426T000147
CREATED:20251014T140609Z
LAST-MODIFIED:20251014T140720Z
UID:14530-1762965900-1814378400@lavela.org
SUMMARY:Tempo Insieme Concesio
DESCRIPTION:Per giocare\, confrontarsi e condividere esperienze\nA tutti i bambini dagli 0 ai 3 anni e alle loro famiglie da mercoledì 12 novembre 2025\nvi aspettiamo in un ambiente a misura di bambino dove trascorrere del tempo insieme \nTutti i mercoledì\, da novembre 2025 a giugno 2026 \ndalle 16.45 alle 18 presso il Nido di Concesio (via Pascoli 10)\nPer frequentare lo spazio “TEMPO INSIEME” è necessario:\n• che i bambini siano accompagnati da un adulto di riferimento che ne sarà responsabile\n• munirsi di calze antiscivolo\n• il pagamento di una quota simbolica di 13 euro al mese per contribuire alle spese per i materiali \nI laboratori di gioco saranno organizzati e condotti da un’educatrice \nLe iscrizioni sono aperte tutto l’anno \nPer informazioni: Asilo nido di Concesio 030 2754240\nTutti i mercoledì\, da novembre 2025 a giugno 2026\ndalle 16.45 alle 18 presso il Nido di Concesio (via Pascoli 10)
URL:https://lavela.org/evento/tempo-insieme-concesio-2/
LOCATION:Asilo nido Concesio (Bs)\, via Giovanni Pascoli 10\, Concesio\, Brescia\, Italia
ATTACH;FMTTYPE=image/jpeg:https://lavela.org/wp-content/uploads/2025/10/TempoInsieme_25-26_Concesio-banner.jpg
END:VEVENT
BEGIN:VEVENT
DTSTART;TZID=Europe/Rome:20260204T170000
DTEND;TZID=Europe/Rome:20260624T180000
DTSTAMP:20260426T000147
CREATED:20260120T120436Z
LAST-MODIFIED:20260120T120436Z
UID:14791-1770224400-1782324000@lavela.org
SUMMARY:Tempo Insieme Chiari
DESCRIPTION:Per giocare\, confrontarsi e condividere esperienze\nA tutti i bambini dagli 0 ai 3 anni e alle loro famiglie da mercoledì 4 febbraio 2026\nvi aspettiamo in un ambiente a misura di bambino dove trascorrere del tempo insieme \nTutti i mercoledì\, da febbraio a giugno 2026 \ndalle 17 alle 18 presso l’Asilo nido comunale di Chiari (via Cologne 3/A)\nPer frequentare lo spazio “TEMPO INSIEME” è necessario:\n• che i bambini siano accompagnati da un adulto di riferimento che ne sarà responsabile\n• munirsi di calze antiscivolo\n• il pagamento di una quota simbolica di 10 euro al mese per contribuire alle spese per i materiali \nI laboratori di gioco saranno organizzati e condotti da un’educatrice \nLe iscrizioni sono aperte tutto l’anno \nPer informazioni: 030 712530 | asilonido@comune.chiari.brescia.it
URL:https://lavela.org/evento/tempo-insieme-chiari/
LOCATION:Nido comunale Chiari\, Via Cologne 3/A\, Chiari\, 25032\, Italia
ATTACH;FMTTYPE=image/jpeg:https://lavela.org/wp-content/uploads/2026/01/TempoInsieme_25-26_Chiari-banner-scaled.jpg
END:VEVENT
BEGIN:VEVENT
DTSTART;TZID=Europe/Rome:20260205T164500
DTEND;TZID=Europe/Rome:20260528T180000
DTSTAMP:20260426T000147
CREATED:20260119T162400Z
LAST-MODIFIED:20260119T162400Z
UID:14783-1770309900-1779991200@lavela.org
SUMMARY:Tempo Insieme Nave
DESCRIPTION:Per giocare\, confrontarsi e condividere esperienze\nA tutti i bambini dagli 0 ai 3 anni e alle loro famiglie da giovedì 5 febbraio 2026\nvi aspettiamo in un ambiente a misura di bambino dove trascorrere del tempo insieme \nTutti i giovedì\, da febbraio a maggio 2026 \ndalle 16.45 alle 18 presso l’Asilo nido comunale Mondogiocondo di Nave (via della Fonte 12)\nPer frequentare lo spazio “TEMPO INSIEME” è necessario:\n• che i bambini siano accompagnati da un adulto di riferimento che ne sarà responsabile\n• munirsi di calze antiscivolo\n• il pagamento di una quota simbolica di 13 euro al mese per contribuire alle spese per i materiali \nI laboratori di gioco saranno organizzati e condotti da un’educatrice \nLe iscrizioni sono aperte tutto l’anno \nPer informazioni: Asilo nido Mondogiocondo 030 2533583
URL:https://lavela.org/evento/tempo-insieme-nave-2/
LOCATION:Asilo nido comunale Mondogiocondo Nave\, via della Fonte 12\, Nave\, 25075\, Italia
ATTACH;FMTTYPE=image/jpeg:https://lavela.org/wp-content/uploads/2026/01/banner-TempoInsieme_nave-scaled.jpg
END:VEVENT
BEGIN:VEVENT
DTSTART;TZID=Europe/Rome:20260228T090000
DTEND;TZID=Europe/Rome:20260302T130000
DTSTAMP:20260426T000147
CREATED:20260129T113723Z
LAST-MODIFIED:20260129T113801Z
UID:14846-1772269200-1772456400@lavela.org
SUMMARY:OpenDay al Nido comunale Bollicine\, Bovezzo
DESCRIPTION:In occasione delle iscrizioni per l’anno educativo 2026-2027\nmamme e papà sono invitati alle giornate di apertura del nido \n\n\nsabato 28 febbraio 2026\ndalle ore 9 alle ore 13 \n\n\nper conoscere e visitare gli spazi del nido\, su appuntamento \nVieni a scoprire la nostra proposta educativa \n• atelier sensoriali\n• outdoor education (sperimentazioni all’aperto per tutte le stagioni)\n• consulenze pedagogiche\n• tempi lenti \nL’asilo nido si trova in via Vittorio Veneto 23\, Bovezzo (Bs)\nPer informazioni e appuntamenti 342 7614338 – nido.bovezzo@lavela.org
URL:https://lavela.org/evento/openday-al-nido-comunale-bollicine-bovezzo-2/
LOCATION:Asilo nido Bollicine Bovezzo\, Via Vittorio Veneto 23\, Bovezzo\, Brescia\, Italia
ATTACH;FMTTYPE=image/jpeg:https://lavela.org/wp-content/uploads/2026/01/openday_NidoBovezzo_2026_Artboard-1-copy-2-scaled.jpg
END:VEVENT
BEGIN:VEVENT
DTSTART;TZID=Europe/Rome:20260302T080000
DTEND;TZID=Europe/Rome:20260331T220000
DTSTAMP:20260426T000147
CREATED:20260226T103755Z
LAST-MODIFIED:20260226T103755Z
UID:14947-1772438400-1774994400@lavela.org
SUMMARY:Spazio Comunità_Marzo 2026
DESCRIPTION:LUNEDÌ ore 14.30-17.30\n2 e 16 MARZO Giochi da tavolo (carte\, cruciverba etc.)\n9 e 23 MARZO Lunedì in musica con gli “Amici della Musica”\n16 MARZO ore 14.45-16 Sportello digitale: assistenza gratuita per l’utilizzo dei servizi online e tecnologie digitali (es. creazione SPID\, recupero password\, prenotazioni visite mediche\, farmaci\, navigazione smartphone\, ClasseViva famiglie) a cura dell’Associazione “Volontariato Villa-Caritas”\n30 MARZO “Festa di primavera” pomeriggio danzante con Daniela Tecnicolors \nNovità! tutti i lunedì fino a giugno 2026\, ore 16.15-18.15 Bimbi in gioco con Saresa! Pomeriggio di gioco per bambini 5-9 anni\, accompagnati da un adulto di riferimento. Per informazioni: saresaassociazione@gmail.com \nMARTEDÌ \nTutti i martedì ore 8.30-11.30 apertura dell’Ambulatorio infermieristico\nTutti i martedì ore 9.30-11 Il caffè del martedì lettura giornali e momento di chiacchiere per tutta la cittadinanza\nTutti i martedì ore 16-19 Spazio studio e attività ludico ricreative per ragazzi/e delle superiori\, a cura della Cooperativa “La Vela” (Progetto #area069) \nMERCOLEDÌ  per tutta la cittadinanza\, ore 14.30-17.30 (tranne dove diversamente indicato) \nORE 13-14 Sportello informativo e orientativo per le famiglie: consulenze sui servizi di cura delle persone non autosu cienti (anziani o disabili\, invalidi civili) e dei loro familiari e sulle misure di sostegno. Sportello attivo solo su appuntamento 389 5147811 (a cura di Coop. La Vela)\n4 MARZO Laboratorio “fiori di primavera” attività creativa di manualità\n4 MARZO ore 14.30-16.30 Info point a cura dei volontari dell’ANT della Valtrompia\n11 MARZO Giochi da tavolo (carte\, cruciverba\, puzzle\, ecc.)\n18 MARZO Laboratorio “Primavera in arrivo” rendiamo bello il nostro spazio\n25 MARZO Laboratorio creativo “Decoriamo la Pasqua” \nGIOVEDÌ \nOgni primo giovedì del mese ore 10-12 Apertura della “fascioteca”\, a cura di Associazione Saresa (Per informazioni: 333 7949351)\nTutti i giovedì ore 16-18.30 Attività ludico ricreative per ragazzi/e delle superiori\, a cura della Cooperativa “La Vela” (progetto #area069)\nTutti i giovedì dalle 20.30 alle 22 riprende “Sferruzzando in compagnia”\, incontri di maglia e uncinetto liberi e aperti a tutte/i\, principianti ed esperti. A cura di Associazione Saresa. \nVENERDÌ  per tutta la cittadinanza\, ore 14.30-17.30 (tranne dove diversamente indicato) \n6 MARZO La persona al centro\, stimolazione cognitiva a cura della dott.ssa Luisa Cadei\, insieme ai bambini della scuola primaria di Cogozzo\n13 e 20 MARZO Tombolata\n27 MARZO La persona al centro\, attività di stimolazione cognitiva condotta dalla dott.ssa Luisa Cadei \nNovità! Ogni venerdì “Small Talk” corso di conversazione in inglese\, a cura dell’Associazione CIGD.\nPer info prof.ssa Elena Ettori 334 2495766\n• dalle 15 alle 17\, per studenti delle scuole superiori potenziamento delle competenze di ascolto e parlato\n• dalle 17 alle 18\, per adulti: nuovo spazio dedicato alla conversazione in lingua inglese \n  \nSpazio Comunità ospita  \nAssociazione “Saresa” Incontro per i soci il 1° martedì del mese\nTutti i mercoledì mattina dalle 9.30 alle 12 Laboratori espressivi dei ragazzi e delle ragazze della Cooperativa “Il Ponte”\n4 e 18 MARZO dalle 14.00 alle 16.00 “Palestra della mente” – incontri di allenamento delle funzioni cognitive – a cura dei Consultori Civitas. Per informazione ed iscrizioni 334 6610398\n16 e 23 MARZO ore 20.00 “Sotto la superficie: quello che i preadolescenti non dicono” serate di formazione rivolte a genitori di preadolescenti\, a cura di Consultori Civitas e Ambito. Per info roberta.sciola@civitas.valletrompia.it \n  \nLo Spazio Comunità si trova in via Cesare Scaluggia 89 a Cailina\, Villa Carcina.\nÈ un’iniziativa del Comune di Villa Carcina in collaborazione con la Cooperativa sociale La Vela\nPer informazioni: 333 6864498\ndal lunedì al venerdì\, dalle 9 alle 19
URL:https://lavela.org/evento/spazio-comunita_marzo-2026/
LOCATION:Spazio Comunità\, via Cesare Scaluggia 89\, Villa Carcina\, Brescia\, Italia
ATTACH;FMTTYPE=image/jpeg:https://lavela.org/wp-content/uploads/2026/02/banner-spazio-comunita-evento-MARZO-scaled.jpg
END:VEVENT
BEGIN:VEVENT
DTSTART;TZID=Europe/Rome:20260305T170000
DTEND;TZID=Europe/Rome:20260307T120000
DTSTAMP:20260426T000147
CREATED:20260203T114311Z
LAST-MODIFIED:20260218T151350Z
UID:14886-1772730000-1772884800@lavela.org
SUMMARY:OpenDay al Nido comunale Mondogiocondo\, Nave
DESCRIPTION:In occasione delle iscrizioni per l’anno educativo 2026-2027\nmamme e papà sono invitati alle giornate di apertura del nido \n\n\ngiovedì 5 marzo 2026\ndalle ore 17 alle ore 18.30 \n\n\nsabato 7 marzo 2026\ndalle ore 9 alle ore 12 \n\n\nper conoscere e visitare gli spazi del nido\, su appuntamento \nVieni a scoprire la nostra proposta educativa \n• atelier sensoriali\n• outdoor education (sperimentazioni all’aperto per tutte le stagioni)\n• consulenze pedagogiche\n• tempi lenti \nL’asilo nido si trova in Via della Fonte 12\nPer informazioni e appuntamenti 030 2533583 – nido.nave@lavela.or
URL:https://lavela.org/evento/nido-comunale-mondogiocondo-nave/
LOCATION:Asilo nido comunale Mondogiocondo Nave\, via della Fonte 12\, Nave\, 25075\, Italia
ATTACH;FMTTYPE=image/jpeg:https://lavela.org/wp-content/uploads/2026/02/openday-nido-nave-2026-banner-scaled.jpg
END:VEVENT
BEGIN:VEVENT
DTSTART;TZID=Europe/Rome:20260327T203000
DTEND;TZID=Europe/Rome:20260327T233000
DTSTAMP:20260426T000147
CREATED:20260219T142320Z
LAST-MODIFIED:20260403T094332Z
UID:14926-1774643400-1774654200@lavela.org
SUMMARY:Nessunə è normale
DESCRIPTION:Il monologo\nNormalità e diversità: due categorie in cui abbiamo l’abitudine di incasellare le persone. E spesso con “normale” tendiamo a definire cosa\, e chi\, sia socialmente accettabile\, in linea con gli standard e la norma. Questo va a discapito dei corpi non conformi\, di chi viene messo ai margini – donne\, persone migranti\, povere\, queer. La sociolinguista Vera Gheno\, talvolta con ironia\, si pone alcune domande su questo tema: siamo sicuri che una normalità esista davvero? E a cosa serve? Potremmo farne a meno? \nVera Gheno\nSociolinguista e traduttrice dall’ungherese\, si occupa prevalentemente di comunicazione digitale\, questioni di genere\, diversità\, equità e inclusione.\nHa collaborato per 20 anni con l’Accademia della Crusca. Dal 2021 è ricercatrice a tempo determinato all’Università di Firenze. Tra le sue pubblicazioni\, “Femminili singolari. Il femminismo è nelle parole” (2021\, effequ) e “Grammamanti. Immaginare futuri con le parole” (2024\, Einaudi). “Nessunə è normale” (2025\, UTET). Conduce\, per Il Post\, il podcast “Amare Parole”. \nSolo cose belle – il progetto\nUna gita al museo\, uno spettacolo teatrale\, un’uscita in natura\, un corso sportivo sono cose belle. Promuovono cultura e relazioni\, sono una forma di cura. Ogni giorno incontriamo bambinə\, adolescentə\, anzianə e famiglie.\nCrediamo che la bellezza debba essere alla portata di tuttə perchè è possibilità di apertura a nuovi linguaggi\, di espressione dì sé e di relazione. \nInsieme a te – che partecipi a questo evento a sostegno di “Solo cose belle” – possiamo realizzare per loro e con loro laboratori creativi\, gite culturali e corsi sportivi\, promuovendo così benessere\, coesione sociale e partecipazione attiva.
URL:https://lavela.org/evento/nessun%c9%99-e-normale/
LOCATION:Teatro Centro Lucia\, Via Dante Alighieri 15\, Botticino\, Brescia\, Italia
ATTACH;FMTTYPE=image/jpeg:https://lavela.org/wp-content/uploads/2026/02/veraghenospettacolo-sito_Teatro-26-banner-evento-1.jpg
END:VEVENT
BEGIN:VEVENT
DTSTART;TZID=Europe/Rome:20260401T080000
DTEND;TZID=Europe/Rome:20260430T220000
DTSTAMP:20260426T000147
CREATED:20260316T121154Z
LAST-MODIFIED:20260316T121154Z
UID:15002-1775030400-1777586400@lavela.org
SUMMARY:Spazio Comunità_Aprile 2026
DESCRIPTION:LUNEDÌ ore 14.30-17.30\n13 e 27 APRILE Lunedì in musica con gli “Amici della Musica”\n20 APRILE Giochi da tavolo (carte\, cruciverba etc.)\n20 APRILE ore 14.45-16 Sportello digitale: assistenza gratuita per l’utilizzo dei servizi online e tecnologie digitali (es. creazione SPID\, recupero password\, prenotazioni visite mediche\, farmaci\, navigazione smartphone\, ClasseViva famiglie) a cura dell’Associazione “Volontariato Villa-Caritas”\n30 MARZO “Festa di primavera” pomeriggio danzante con Daniela Tecnicolors \nNovità! tutti i lunedì fino a giugno 2026\, ore 16.15-18.15 Bimbi in gioco con Saresa! Pomeriggio di gioco per bambini 5-9 anni\, accompagnati da un adulto di riferimento. Per informazioni: saresaassociazione@gmail.com \nMARTEDÌ \nTutti i martedì ore 8.30-11.30 apertura dell’Ambulatorio infermieristico\nTutti i martedì ore 9.30-11 Il caffè è del martedì lettura giornali e momento di chiacchiere per tutta la cittadinanza\nTutti i martedì ore 16-19 Spazio studio e attività ludico ricreative per ragazzi/e delle superiori\, a cura della Cooperativa “La Vela” (Progetto #area069) \nMERCOLEDÌ  per tutta la cittadinanza\, ore 14.30-17.30 (tranne dove diversamente indicato) \nORE 13-14 Sportello informativo e orientativo per le famiglie: consulenze sui servizi di cura delle persone non autosu cienti (anziani o disabili\, invalidi civili) e dei loro familiari e sulle misure di sostegno. Sportello attivo solo su appuntamento 389 5147811 (a cura di Coop. La Vela)\n1 APRILE ore 14.30-16.30 Info point a cura dei volontari dell’ANT della Valtrompia\n1 APRILE “Pasqua a colori” laboratorio di decoupage….\n8 APRILE Giochi da tavolo (carte\, cruciverba\, puzzle\, ecc.)\n15 APRILE Laboratorio di primavera\n22 APRILE “Il cricuverbone” – Allenamente in compagnia\n29 APRILE Tombolata \nGIOVEDÌ \nOgni primo giovedì del mese ore 10-12 Apertura della “fascioteca”\, a cura di Associazione Saresa (Per informazioni: 333 7949351)\nTutti i giovedì ore 16-18.30 Attività ludico ricreative per ragazzi/e delle superiori\, a cura della Cooperativa “La Vela” (progetto #area069)\nTutti i giovedì dalle 20.30 alle 22 riprende “Sferruzzando in compagnia”\, incontri di maglia e uncinetto liberi e aperti a tutte/i\, principianti ed esperti. A cura di Associazione Saresa\n2 APRILE dalle ore 18.00 Festa di Pasqua per preadolescenti e adolescenti \nVENERDÌ  per tutta la cittadinanza\, ore 14.30-17.30 (tranne dove diversamente indicato) \n10 APRILE “La persona al centro” attività di stimolazione cognitiva condotta dalla dott.ssa Luisa Cadei\n17 APRILE Tombolata\n24 APRILE “Liberamente” attività con i ragazzi della scuola secondaria \nOgni venerdì “Small Talk” corso di conversazione in inglese\, a cura dell’Associazione CIGD.\nPer info prof.ssa Elena Ettori 334 2495766\n• dalle 15 alle 17\, per studenti delle scuole superiori potenziamento delle competenze di ascolto e parlato\n• dalle 17 alle 18\, per adulti: nuovo spazio dedicato alla conversazione in lingua inglese \n  \nSpazio Comunità ospita \nNovità Tutti i lunedì\, mercoledì e venerdì alle ore 12\,30 sarà attivo lo spazio “Mezzogiorno in compagnia”\, momento di condivisione del pranzo. Per info e prenotazioni rivolgersi ai Servizi Sociali del comune 030 8984324\nAssociazione “Saresa” Incontro per i soci il 1° martedì del mese\nTutti i mercoledì mattina dalle 9.30 alle 12 Laboratori espressivi dei ragazzi e delle ragazze della Cooperativa “Il Ponte”\n1 e 15 APRILE dalle 14.00 alle 16.00 “Palestra della mente” – incontri di allenamento delle funzioni cognitive – a cura dei Consultori Civitas. Per informazione ed iscrizioni 334 6610398 \n  \nLo Spazio Comunità si trova in via Cesare Scaluggia 89 a Cailina\, Villa Carcina.\nÈ un’iniziativa del Comune di Villa Carcina in collaborazione con la Cooperativa sociale La Vela\nPer informazioni: 333 6864498\ndal lunedì al venerdì\, dalle 9 alle 19
URL:https://lavela.org/evento/spazio-comunita_aprile-2026/
LOCATION:Spazio Comunità\, via Cesare Scaluggia 89\, Villa Carcina\, Brescia\, Italia
ATTACH;FMTTYPE=image/jpeg:https://lavela.org/wp-content/uploads/2026/03/banner-spazio-comunita-evento-APRILE-scaled.jpg
END:VEVENT
BEGIN:VEVENT
DTSTART;TZID=Europe/Rome:20260510T140000
DTEND;TZID=Europe/Rome:20260510T200000
DTSTAMP:20260426T000147
CREATED:20260413T102315Z
LAST-MODIFIED:20260424T142719Z
UID:15259-1778421600-1778443200@lavela.org
SUMMARY:7° Torneo beach volley A tutta vita
DESCRIPTION:Iscrizioni aperte fino a giovedì 30 aprile 2026 (incluso)\nPartecipa con la tua squadra al 7° Torneo di beach volley A TUTTA VITA\, amatoriale outdoor\nGioca e sostieni “Solo cose belle” un progetto della Cooperativa sociale La Vela \n\n  \nDonazioni consigliate \n\n120 euro per squadre miste da min 4-max 8 giocatori/trici dai 18 anni in su\n200 euro per squadre miste da più di 8 giocatori/trici dai 18 anni in su\nNon hai una squadra? Iscriviti come singolo/a partecipante\, troviamo noi i tuoi compagni di gioco\n\nIl torneo in cifre \n\n10 campi da beach volley outdoor\n20 squadre miste\nGiocatori/trici in campo: 4 per ogni squadra (sempre presenze miste)\nEtà giocatori/trici: dai 18 anni in su\nPartite di qualificazione da 1 set ai 21 punti. Finale 3 set\n\nPer informazioni\ndonaora@lavela.org\n030 2530343 dal lunedì al venerdì ore 9.30-15.30 \nGrazie al sostegno di \n..     \nPartner tecnici \n               .    \n 
URL:https://lavela.org/evento/7-torneo-beach-volley-a-tutta-vita/
LOCATION:ARENA BEACH\, via Breda Vecchia\, Cellatica\, Italia
ATTACH;FMTTYPE=image/jpeg:https://lavela.org/wp-content/uploads/2026/04/slider-banner-sito-torneo-26_Tavola-disegno-4-scaled.jpg
END:VEVENT
END:VCALENDAR